BEGIN:VCALENDAR
VERSION:2.0
PRODID:-//Tukios.com/
BEGIN:VEVENT
UID:95b2e549-f1fb-494e-97bb-12946d2d304c@www.silvafuneralhome.com
DTSTAMP:20260424T175406Z
DTSTART:20260501T153000Z
DTEND:20260501T163000Z
SUMMARY:Graveside Service
DESCRIPTION:
URL:https://www.silvafuneralhome.com/obituaries/maryanne-gordon
LOCATION:Saint Joseph Cemetery 475 East Britannia Street  Taunton MA 
	02780
GEO:41.9206439;-71.0791535
END:VEVENT
END:VCALENDAR